BEGIN:VCALENDAR
VERSION:2.0
PRODID:-//Third Coast Percussion - ECPv4.9.13//NONSGML v1.0//EN
CALSCALE:GREGORIAN
METHOD:PUBLISH
X-WR-CALNAME:Third Coast Percussion
X-ORIGINAL-URL:https://thirdcoastpercussion.com
X-WR-CALDESC:Events for Third Coast Percussion
BEGIN:VTIMEZONE
TZID:America/Chicago
BEGIN:DAYLIGHT
TZOFFSETFROM:-0600
TZOFFSETTO:-0500
TZNAME:CDT
DTSTART:20240310T080000
END:DAYLIGHT
BEGIN:STANDARD
TZOFFSETFROM:-0500
TZOFFSETTO:-0600
TZNAME:CST
DTSTART:20241103T070000
END:STANDARD
END:VTIMEZONE
BEGIN:VEVENT
DTSTART;VALUE=DATE:20240205
DTEND;VALUE=DATE:20240211
DTSTAMP:20260424T193021
CREATED:20230808T150641Z
LAST-MODIFIED:20231115T154139Z
UID:11546-1707091200-1707609599@thirdcoastpercussion.com
SUMMARY:Denison University Residency Week
DESCRIPTION:Third Coast Percussion is Ensemble-In-Residence at Denison University. \n
URL:https://thirdcoastpercussion.com/event/denison-university-residency-week-2/
LOCATION:Denison University\, 100 W College St\, Granville\, OH\, 43023\, United States
CATEGORIES:Touring
END:VEVENT
END:VCALENDAR