BEGIN:VCALENDAR
VERSION:2.0
PRODID:-//Third Coast Percussion - ECPv4.9.13//NONSGML v1.0//EN
CALSCALE:GREGORIAN
METHOD:PUBLISH
X-WR-CALNAME:Third Coast Percussion
X-ORIGINAL-URL:https://thirdcoastpercussion.com
X-WR-CALDESC:Events for Third Coast Percussion
BEGIN:VTIMEZONE
TZID:America/Los_Angeles
BEGIN:DAYLIGHT
TZOFFSETFROM:-0800
TZOFFSETTO:-0700
TZNAME:PDT
DTSTART:20170312T100000
END:DAYLIGHT
BEGIN:STANDARD
TZOFFSETFROM:-0700
TZOFFSETTO:-0800
TZNAME:PST
DTSTART:20171105T090000
END:STANDARD
END:VTIMEZONE
BEGIN:VEVENT
DTSTART;TZID=America/Los_Angeles:20170326T200000
DTEND;TZID=America/Los_Angeles:20170326T200000
DTSTAMP:20260421T160127
CREATED:20160621T113358Z
LAST-MODIFIED:20160621T113358Z
UID:2995-1490558400-1490558400@thirdcoastpercussion.com
SUMMARY:Furman University
DESCRIPTION:GLENN KOTCHE Wild Sound\, Mvt. 4\nAUGUSTA READ THOMAS Resounding Earth\, Mvt. 2\nSTEVE REICH Mallet Quartet\nDONNACHA DENNEHY Surface Tension \n
URL:https://thirdcoastpercussion.com/event/furman-university/
LOCATION:Furman University – Daniel Music Building\, 3300 Poinsett Hwy\, Greenville\, SC\, 29613\, United States
END:VEVENT
END:VCALENDAR