BEGIN:VCALENDAR
VERSION:2.0
PRODID:-//Third Coast Percussion - ECPv4.9.13//NONSGML v1.0//EN
CALSCALE:GREGORIAN
METHOD:PUBLISH
X-WR-CALNAME:Third Coast Percussion
X-ORIGINAL-URL:https://thirdcoastpercussion.com
X-WR-CALDESC:Events for Third Coast Percussion
BEGIN:VTIMEZONE
TZID:America/Los_Angeles
BEGIN:DAYLIGHT
TZOFFSETFROM:-0800
TZOFFSETTO:-0700
TZNAME:PDT
DTSTART:20170312T100000
END:DAYLIGHT
BEGIN:STANDARD
TZOFFSETFROM:-0700
TZOFFSETTO:-0800
TZNAME:PST
DTSTART:20171105T090000
END:STANDARD
END:VTIMEZONE
BEGIN:VEVENT
DTSTART;TZID=America/Los_Angeles:20170212T123000
DTEND;TZID=America/Los_Angeles:20170212T123000
DTSTAMP:20260422T115053
CREATED:20170207T020403Z
LAST-MODIFIED:20170207T020403Z
UID:3146-1486902600-1486902600@thirdcoastpercussion.com
SUMMARY:GRAMMY Premiere Ceremony - Microsoft Theater
DESCRIPTION:We are so thrilled to be a featured performer at the 59th GRAMMY Premiere Ceremony. \nWe’ll be performing music from our album Third Coast Percussion | Steve Reich\, which is nominated in the category “Best Chamber Music/ Small Ensemble Performance” \n12:30 p.m. PST – Ceremony begins\n1:30 p.m. PST – Our performance \nStream the ceremony and performance live on CBS.com \n
URL:https://thirdcoastpercussion.com/event/grammy-premiere-ceremony-microsoft-theater/
LOCATION:Microsoft Theater\, 777 Chick Hearn Ct\, Los Angeles\, CA\, 90015\, United States
END:VEVENT
END:VCALENDAR