BEGIN:VCALENDAR
VERSION:2.0
PRODID:-//Third Coast Percussion - ECPv4.9.13//NONSGML v1.0//EN
CALSCALE:GREGORIAN
METHOD:PUBLISH
X-WR-CALNAME:Third Coast Percussion
X-ORIGINAL-URL:https://thirdcoastpercussion.com
X-WR-CALDESC:Events for Third Coast Percussion
BEGIN:VTIMEZONE
TZID:America/Chicago
BEGIN:DAYLIGHT
TZOFFSETFROM:-0600
TZOFFSETTO:-0500
TZNAME:CDT
DTSTART:20250309T080000
END:DAYLIGHT
BEGIN:STANDARD
TZOFFSETFROM:-0500
TZOFFSETTO:-0600
TZNAME:CST
DTSTART:20251102T070000
END:STANDARD
END:VTIMEZONE
BEGIN:VEVENT
DTSTART;TZID=America/Chicago:20250327T200000
DTEND;TZID=America/Chicago:20250327T200000
DTSTAMP:20260423T185608
CREATED:20240423T213511Z
LAST-MODIFIED:20240506T185718Z
UID:12687-1743105600-1743105600@thirdcoastpercussion.com
SUMMARY:Kennedy Center for the Performing Arts with Twyla Tharp
DESCRIPTION:
URL:https://thirdcoastpercussion.com/event/kennedy-center-for-the-performing-arts-with-twyla-tharp-2/
LOCATION:The John F Kennedy Center for the Performing Arts\, 2700 F Street NW\, Washington\, DC\, 20566\, United States
CATEGORIES:Touring
END:VEVENT
END:VCALENDAR