BEGIN:VCALENDAR
VERSION:2.0
PRODID:-//Third Coast Percussion - ECPv4.9.13//NONSGML v1.0//EN
CALSCALE:GREGORIAN
METHOD:PUBLISH
X-WR-CALNAME:Third Coast Percussion
X-ORIGINAL-URL:https://thirdcoastpercussion.com
X-WR-CALDESC:Events for Third Coast Percussion
BEGIN:VTIMEZONE
TZID:America/Chicago
BEGIN:DAYLIGHT
TZOFFSETFROM:-0600
TZOFFSETTO:-0500
TZNAME:CDT
DTSTART:20150308T080000
END:DAYLIGHT
BEGIN:STANDARD
TZOFFSETFROM:-0500
TZOFFSETTO:-0600
TZNAME:CST
DTSTART:20151101T070000
END:STANDARD
END:VTIMEZONE
BEGIN:VEVENT
DTSTART;TZID=America/Chicago:20150522T193000
DTEND;TZID=America/Chicago:20150522T193000
DTSTAMP:20260422T183406
CREATED:20140709T212521Z
LAST-MODIFIED:20140709T212521Z
UID:1830-1432323000-1432323000@thirdcoastpercussion.com
SUMMARY:MCA Stage - 2
DESCRIPTION:2 nights!\n“Wild Sound”\nfeaturing guest artist Glenn Kotche on drumset \nKOTCHE Solo Piece TBD\nREICH Music for Drums\nREICH Nagoya Marimbas\nKOTCHE Drumkit Quartet #51\nKOTCHE Wild Sound \nClick here for more info. \nWild Sound was commissioned by the University of Notre Dame’s DeBartolo Performing Arts Center and the Chamber Music America Classical Commissioning Program\, with generous funding provided by The Andrew W. Mellon Foundation and the Chamber Music America Endowment Fund. Additional support provided by The Saint Paul Chamber Orchestra’s Liquid Music Series. \n
URL:https://thirdcoastpercussion.com/event/mca-stage-2/
LOCATION:Museum of Contemporary Art\, 220 E Chicago Ave\, Chicago\, IL\, 60611\, United States
CATEGORIES:Chicago Concert Season
END:VEVENT
END:VCALENDAR