BEGIN:VCALENDAR
VERSION:2.0
PRODID:-//Third Coast Percussion - ECPv4.9.13//NONSGML v1.0//EN
CALSCALE:GREGORIAN
METHOD:PUBLISH
X-WR-CALNAME:Third Coast Percussion
X-ORIGINAL-URL:https://thirdcoastpercussion.com
X-WR-CALDESC:Events for Third Coast Percussion
BEGIN:VTIMEZONE
TZID:America/Chicago
BEGIN:DAYLIGHT
TZOFFSETFROM:-0600
TZOFFSETTO:-0500
TZNAME:CDT
DTSTART:20160313T080000
END:DAYLIGHT
BEGIN:STANDARD
TZOFFSETFROM:-0500
TZOFFSETTO:-0600
TZNAME:CST
DTSTART:20161106T070000
END:STANDARD
END:VTIMEZONE
BEGIN:VEVENT
DTSTART;TZID=America/Chicago:20160225T190000
DTEND;TZID=America/Chicago:20160225T190000
DTSTAMP:20260420T211819
CREATED:20150921T210306Z
LAST-MODIFIED:20150921T210306Z
UID:2604-1456426800-1456426800@thirdcoastpercussion.com
SUMMARY:Muziekgebouw Eindhoven - Cross-Linx Festival
DESCRIPTION:KOTCHE Projections of (What) Might\nGlenn Kotche\, solo\nKOTCHE Wild Sound mvt 4\nREICH Mallet Quartet\nKOTCHE Monkey Chant\nGlenn Kotche\, solo\nREICH Music for Pieces of Wood (arr. for 2 drumsets)\nGlenn Kotche and Third Coast Percussion \nClick here to BUY TICKETS\nClick here to learn more about Cross-Linx Festival \nThis engagement is supported by Mid Atlantic Arts Foundation through USArtists International in partnership with the National Endowment for the Arts and the Andrew W. Mellon Foundation. \n \n
URL:https://thirdcoastpercussion.com/event/muziekgebouw-eindhoven-cross-linx-festival/
LOCATION:Muziekgebouw Eindhoven\, Heuvel 140\, Eindhoven\, DK\, 5611\, Netherlands
END:VEVENT
END:VCALENDAR