BEGIN:VCALENDAR
VERSION:2.0
PRODID:-//Third Coast Percussion - ECPv4.9.13//NONSGML v1.0//EN
CALSCALE:GREGORIAN
METHOD:PUBLISH
X-WR-CALNAME:Third Coast Percussion
X-ORIGINAL-URL:https://thirdcoastpercussion.com
X-WR-CALDESC:Events for Third Coast Percussion
BEGIN:VTIMEZONE
TZID:America/New_York
BEGIN:DAYLIGHT
TZOFFSETFROM:-0500
TZOFFSETTO:-0400
TZNAME:EDT
DTSTART:20170312T070000
END:DAYLIGHT
BEGIN:STANDARD
TZOFFSETFROM:-0400
TZOFFSETTO:-0500
TZNAME:EST
DTSTART:20171105T060000
END:STANDARD
END:VTIMEZONE
BEGIN:VEVENT
DTSTART;TZID=America/New_York:20170325T150000
DTEND;TZID=America/New_York:20170325T220000
DTSTAMP:20260421T185020
CREATED:20170216T131458Z
LAST-MODIFIED:20170216T131458Z
UID:3177-1490454000-1490479200@thirdcoastpercussion.com
SUMMARY:{Re}HAPPENING @ Black Mountain College
DESCRIPTION:1st set\nDANNY CLAY Playbook (excerpt)\nSTEVE REICH Mallet Quartet\nAUGUSTA READ THOMAS Resounding Earth\, mvt 2\nJOHN CAGE Third Construction \n2nd set\nDANNY CLAY Playbook (excerpt)\nGLENN KOTCHE Wild Sound\, mvt 4\nLOU HARRISON Counterdance in Spring\nPETER MARTIN Bend\nJOHN CAGE Third Construction \nRead more about this awesome event and get tickets here \n
URL:https://thirdcoastpercussion.com/event/rehappening-black-mountain-college/
LOCATION:Black Mountain College\, 375 Lake Eden Rd\, Black Mountain\, NC\, 28711\, United States
END:VEVENT
END:VCALENDAR