BEGIN:VCALENDAR
VERSION:2.0
PRODID:-//Third Coast Percussion - ECPv4.9.13//NONSGML v1.0//EN
CALSCALE:GREGORIAN
METHOD:PUBLISH
X-WR-CALNAME:Third Coast Percussion
X-ORIGINAL-URL:https://thirdcoastpercussion.com
X-WR-CALDESC:Events for Third Coast Percussion
BEGIN:VTIMEZONE
TZID:America/Chicago
BEGIN:DAYLIGHT
TZOFFSETFROM:-0600
TZOFFSETTO:-0500
TZNAME:CDT
DTSTART:20150308T080000
END:DAYLIGHT
BEGIN:STANDARD
TZOFFSETFROM:-0500
TZOFFSETTO:-0600
TZNAME:CST
DTSTART:20151101T070000
END:STANDARD
END:VTIMEZONE
BEGIN:VEVENT
DTSTART;TZID=America/Chicago:20151030T190000
DTEND;TZID=America/Chicago:20151030T190000
DTSTAMP:20260422T065349
CREATED:20150429T144610Z
LAST-MODIFIED:20150429T144610Z
UID:2257-1446231600-1446231600@thirdcoastpercussion.com
SUMMARY:University of Notre Dame
DESCRIPTION:7:00 p.m. \nFeaturing the premiere of the chamber choir version of composer Nathan Davis’s epic a Sound uttered\, a Silence crossed for SATB choir and percussion quartet. The piece features hundreds of percussion instruments\, amplified hydrophones\, and electronics accessed by audience members through their personal cell phones during performance. \nNATHAN DAVIS a Sound uttered\, a Silence crossed (Midwest premiere\, co-commissioned by the University of Notre Dame’s DeBartolo Performing Arts Center)\nwith the University of Notre Dame Collegium and special guest Josh Aerie\, conductor\nISAAC SCHANKLER Blindnesses\nDAVID SKIDMORE Donner (premiere)\nDAVID SKIDMORE Take Anything You Want (premiere)\nDAVID SKIDMORE Torched and Wrecked (premiere) \n
URL:https://thirdcoastpercussion.com/event/university-of-notre-dame-2/
LOCATION:DeBartolo Performing Arts Center\, 100 Performing Arts Center\, Notre Dame\, IN\, 46556\, United States
END:VEVENT
END:VCALENDAR