BEGIN:VCALENDAR
VERSION:2.0
PRODID:-//Third Coast Percussion - ECPv4.9.13//NONSGML v1.0//EN
CALSCALE:GREGORIAN
METHOD:PUBLISH
X-WR-CALNAME:Third Coast Percussion
X-ORIGINAL-URL:https://thirdcoastpercussion.com
X-WR-CALDESC:Events for Third Coast Percussion
BEGIN:VTIMEZONE
TZID:America/Chicago
BEGIN:DAYLIGHT
TZOFFSETFROM:-0600
TZOFFSETTO:-0500
TZNAME:CDT
DTSTART:20220313T080000
END:DAYLIGHT
BEGIN:STANDARD
TZOFFSETFROM:-0500
TZOFFSETTO:-0600
TZNAME:CST
DTSTART:20221106T070000
END:STANDARD
END:VTIMEZONE
BEGIN:VEVENT
DTSTART;TZID=America/Chicago:20220127T193000
DTEND;TZID=America/Chicago:20220127T193000
DTSTAMP:20260425T125033
CREATED:20210811T170453Z
LAST-MODIFIED:20220126T152456Z
UID:9218-1643311800-1643311800@thirdcoastpercussion.com
SUMMARY:University of Wisconsin-Madison
DESCRIPTION:
URL:https://thirdcoastpercussion.com/event/university-of-wisconsin-madison/
LOCATION:Hamel Music Center\, 455 N. Park Street\, Madison\, WI\, 53706\, United States
CATEGORIES:Touring
END:VEVENT
END:VCALENDAR