BEGIN:VCALENDAR
VERSION:2.0
PRODID:-//Third Coast Percussion - ECPv4.9.13//NONSGML v1.0//EN
CALSCALE:GREGORIAN
METHOD:PUBLISH
X-WR-CALNAME:Third Coast Percussion
X-ORIGINAL-URL:https://thirdcoastpercussion.com
X-WR-CALDESC:Events for Third Coast Percussion
BEGIN:VTIMEZONE
TZID:America/Los_Angeles
BEGIN:DAYLIGHT
TZOFFSETFROM:-0800
TZOFFSETTO:-0700
TZNAME:PDT
DTSTART:20170312T100000
END:DAYLIGHT
BEGIN:STANDARD
TZOFFSETFROM:-0700
TZOFFSETTO:-0800
TZNAME:PST
DTSTART:20171105T090000
END:STANDARD
END:VTIMEZONE
BEGIN:VEVENT
DTSTART;TZID=America/Los_Angeles:20170422T190000
DTEND;TZID=America/Los_Angeles:20170422T190000
DTSTAMP:20260421T082802
CREATED:20170417T200334Z
LAST-MODIFIED:20170417T200334Z
UID:3199-1492887600-1492887600@thirdcoastpercussion.com
SUMMARY:University of Wisconsin - Platteville
DESCRIPTION:KOTCHE Wild Sound\, mvt 4\nDE MEY Table Music\nTHOMAS Resounding Earth\, mvt 2\nREICH Mallet Quartet\nMARTIN Bend\nDILLON Ordering-Instincts\nSCHANKLER Blindnesses\nSKIDMORE Aliens with Extraordinary Abilities \nClick here for more info. \n
URL:https://thirdcoastpercussion.com/event/university-wisconsin-platteville/
LOCATION:Center for the Arts\, 755 W Main Street\, Platteville\, WI\, 53818\, United States
END:VEVENT
END:VCALENDAR