BEGIN:VCALENDAR
VERSION:2.0
PRODID:-//Third Coast Percussion - ECPv4.9.13//NONSGML v1.0//EN
CALSCALE:GREGORIAN
METHOD:PUBLISH
X-WR-CALNAME:Third Coast Percussion
X-ORIGINAL-URL:https://thirdcoastpercussion.com
X-WR-CALDESC:Events for Third Coast Percussion
BEGIN:VTIMEZONE
TZID:America/Chicago
BEGIN:DAYLIGHT
TZOFFSETFROM:-0600
TZOFFSETTO:-0500
TZNAME:CDT
DTSTART:20230312T080000
END:DAYLIGHT
BEGIN:STANDARD
TZOFFSETFROM:-0500
TZOFFSETTO:-0600
TZNAME:CST
DTSTART:20231105T070000
END:STANDARD
END:VTIMEZONE
BEGIN:VEVENT
DTSTART;TZID=America/Chicago:20230408T180000
DTEND;TZID=America/Chicago:20230408T183000
DTSTAMP:20260420T145951
CREATED:20230207T192424Z
LAST-MODIFIED:20230323T201015Z
UID:10831-1680976800-1680978600@thirdcoastpercussion.com
SUMMARY:Variations Festival at Le Lieu Unique
DESCRIPTION:
URL:https://thirdcoastpercussion.com/event/variations-festival-at-le-lieu-unique/
LOCATION:Le Lieu Unique\, 2 Rue de la Biscuiterie\, Nantes\, 44000\, France
CATEGORIES:Touring
END:VEVENT
END:VCALENDAR