BEGIN:VCALENDAR
VERSION:2.0
PRODID:-//Third Coast Percussion - ECPv4.9.13//NONSGML v1.0//EN
CALSCALE:GREGORIAN
METHOD:PUBLISH
X-WR-CALNAME:Third Coast Percussion
X-ORIGINAL-URL:https://thirdcoastpercussion.com
X-WR-CALDESC:Events for Third Coast Percussion
BEGIN:VTIMEZONE
TZID:America/Los_Angeles
BEGIN:DAYLIGHT
TZOFFSETFROM:-0800
TZOFFSETTO:-0700
TZNAME:PDT
DTSTART:20170312T100000
END:DAYLIGHT
BEGIN:STANDARD
TZOFFSETFROM:-0700
TZOFFSETTO:-0800
TZNAME:PST
DTSTART:20171105T090000
END:STANDARD
END:VTIMEZONE
BEGIN:VEVENT
DTSTART;TZID=America/Los_Angeles:20170224T200000
DTEND;TZID=America/Los_Angeles:20170224T200000
DTSTAMP:20260422T042549
CREATED:20160621T020117Z
LAST-MODIFIED:20160621T020117Z
UID:2967-1487966400-1487966400@thirdcoastpercussion.com
SUMMARY:Walton Arts Center 3
DESCRIPTION:A creative conversation with Third Coast Percussion followed by a 10×10 series performance. \nLyrical Geometry \nGLENN KOTCHE Wild Sound\, Mvt. IV\nAUGUSTA READ THOMAS Resounding Earth\, Mvt. II\nISAAC SCHANKLER Blindnesses\nDAVID SKIDMORE Aliens with Extraordinary Abilities\nSTEVE REICH Mallet Quartet  \nClick here for more info. \n
URL:https://thirdcoastpercussion.com/event/walton-arts-center-3/
END:VEVENT
END:VCALENDAR