BEGIN:VCALENDAR
VERSION:2.0
PRODID:-//Third Coast Percussion - ECPv4.9.13//NONSGML v1.0//EN
CALSCALE:GREGORIAN
METHOD:PUBLISH
X-WR-CALNAME:Third Coast Percussion
X-ORIGINAL-URL:https://thirdcoastpercussion.com
X-WR-CALDESC:Events for Third Coast Percussion
BEGIN:VTIMEZONE
TZID:America/Chicago
BEGIN:DAYLIGHT
TZOFFSETFROM:-0600
TZOFFSETTO:-0500
TZNAME:CDT
DTSTART:20130310T080000
END:DAYLIGHT
BEGIN:STANDARD
TZOFFSETFROM:-0500
TZOFFSETTO:-0600
TZNAME:CST
DTSTART:20131103T070000
END:STANDARD
END:VTIMEZONE
BEGIN:VEVENT
DTSTART;TZID=America/Chicago:20130221T200000
DTEND;TZID=America/Chicago:20130221T200000
DTSTAMP:20260424T212904
CREATED:20120918T183125Z
LAST-MODIFIED:20120918T183125Z
UID:845-1361476800-1361476800@thirdcoastpercussion.com
SUMMARY:Fresno Convention Center - California Band Directors Association
DESCRIPTION:Featured guest artists at the 2013 California Band Directors Association Conference\n8:00 p.m. \nSKIDMORE Ritual Music\nREICH Pieces of Wood\nREICH Mallet Quartet\nBROSTROM Twilight\nCAGE Third Construction\nCONDON Fractalia \n
URL:https://thirdcoastpercussion.com/event/fresno-convention-center-california-band-directors-association/
LOCATION:Fresno Convention Center – Saroyan Theatre\, 730 M Street\, Fresno\, CA\, 93721\, United States
END:VEVENT
BEGIN:VEVENT
DTSTART;TZID=America/Chicago:20130221T200000
DTEND;TZID=America/Chicago:20130221T200000
DTSTAMP:20260424T212904
CREATED:20120918T183125Z
LAST-MODIFIED:20120918T183125Z
UID:3816-1361476800-1361476800@thirdcoastpercussion.com
SUMMARY:Fresno Convention Center - California Band Directors Association
DESCRIPTION:Featured guest artists at the 2013 California Band Directors Association Conference\n8:00 p.m. \nSKIDMORE Ritual Music\nREICH Pieces of Wood\nREICH Mallet Quartet\nBROSTROM Twilight\nCAGE Third Construction\nCONDON Fractalia \n
URL:https://thirdcoastpercussion.com/event/fresno-convention-center-california-band-directors-association-2/
LOCATION:Fresno Convention Center – Saroyan Theatre\, 730 M Street\, Fresno\, CA\, 93721\, United States
END:VEVENT
END:VCALENDAR