BEGIN:VCALENDAR
VERSION:2.0
PRODID:-//Third Coast Percussion - ECPv4.9.13//NONSGML v1.0//EN
CALSCALE:GREGORIAN
METHOD:PUBLISH
X-WR-CALNAME:Third Coast Percussion
X-ORIGINAL-URL:https://thirdcoastpercussion.com
X-WR-CALDESC:Events for Third Coast Percussion
BEGIN:VTIMEZONE
TZID:America/Chicago
BEGIN:DAYLIGHT
TZOFFSETFROM:-0600
TZOFFSETTO:-0500
TZNAME:CDT
DTSTART:20130310T080000
END:DAYLIGHT
BEGIN:STANDARD
TZOFFSETFROM:-0500
TZOFFSETTO:-0600
TZNAME:CST
DTSTART:20131103T070000
END:STANDARD
END:VTIMEZONE
BEGIN:VEVENT
DTSTART;TZID=America/Chicago:20130308T193000
DTEND;TZID=America/Chicago:20130308T193000
DTSTAMP:20260423T233858
CREATED:20130112T233054Z
LAST-MODIFIED:20130112T233054Z
UID:1067-1362771000-1362771000@thirdcoastpercussion.com
SUMMARY:Makro-American: Crumb/Reich - Merit School of Music
DESCRIPTION:“Makro-American: Crumb/Reich”\nFeaturing pianists Timothy Andres and David Kaplan\n7:30 p.m.\n$15/$10 students and seniors \nThird Coast Percussion welcomes pianists Timothy Andres and David Kaplan for masterworks by two of America’s most prized composers.  George Crumb’s Music for a Summer Evening is a fractured evocation of nature and the cosmos\, while Steve Reich’s Sextet creates a steady drive of interlocking melodic patterns on a variety of keyboards. \nCRUMB Music for a Summer Evening (Makrokosmos III)\nREICH Sextet \nClick here to purchase tickets. \n
URL:https://thirdcoastpercussion.com/event/merit-school-of-music-makro-american-crumbreich/
LOCATION:Gottlieb Hall at Merit School of Music\, 38 S. Peoria Street\, Chicago\, IL\, 60607\, United States
CATEGORIES:Chicago Concert Season
END:VEVENT
BEGIN:VEVENT
DTSTART;TZID=America/Chicago:20130308T193000
DTEND;TZID=America/Chicago:20130308T193000
DTSTAMP:20260423T233858
CREATED:20130112T233054Z
LAST-MODIFIED:20130112T233054Z
UID:3822-1362771000-1362771000@thirdcoastpercussion.com
SUMMARY:Makro-American: Crumb/Reich - Merit School of Music
DESCRIPTION:“Makro-American: Crumb/Reich”\nFeaturing pianists Timothy Andres and David Kaplan\n7:30 p.m.\n$15/$10 students and seniors \nThird Coast Percussion welcomes pianists Timothy Andres and David Kaplan for masterworks by two of America’s most prized composers.  George Crumb’s Music for a Summer Evening is a fractured evocation of nature and the cosmos\, while Steve Reich’s Sextet creates a steady drive of interlocking melodic patterns on a variety of keyboards. \nCRUMB Music for a Summer Evening (Makrokosmos III)\nREICH Sextet \nClick here to purchase tickets. \n
URL:https://thirdcoastpercussion.com/event/merit-school-of-music-makro-american-crumbreich-2/
LOCATION:Gottlieb Hall at Merit School of Music\, 38 S. Peoria Street\, Chicago\, IL\, 60607\, United States
CATEGORIES:Chicago Concert Season
END:VEVENT
END:VCALENDAR